BEGIN:VCALENDAR
VERSION:2.0
PRODID:icalendar-ruby
CALSCALE:GREGORIAN
X-WR-CALNAME:Anna Mateur
BEGIN:VTIMEZONE
TZID:Europe/Berlin
BEGIN:DAYLIGHT
DTSTART:20260329T030000
TZOFFSETFROM:+0100
TZOFFSETTO:+0200
RRULE:FREQ=YEARLY;BYDAY=-1SU;BYMONTH=3
TZNAME:CEST
END:DAYLIGHT
BEGIN:STANDARD
DTSTART:20261025T020000
TZOFFSETFROM:+0200
TZOFFSETTO:+0100
RRULE:FREQ=YEARLY;BYDAY=-1SU;BYMONTH=10
TZNAME:CET
END:STANDARD
END:VTIMEZONE
BEGIN:VEVENT
DTSTAMP:20260419T121705Z
UID:57c5a15b-9608-45f0-9e36-e9c9e69f2ca3
DTSTART;TZID=Europe/Berlin:20261010T200000
DTEND;TZID=Europe/Berlin:20261010T221500
DESCRIPTION:https://rampensau.de//kuenstlers/anna-mateur/programm/detail/76
 ?cHash=039344381d2bcc433055838697be892c
LOCATION:Weimar\, Sendehalle
SUMMARY:\nProgramminfos folgen
END:VEVENT
END:VCALENDAR
